BEGIN:VCALENDAR
VERSION:2.0
PRODID:-// - ECPv6.15.11//NONSGML v1.0//EN
CALSCALE:GREGORIAN
METHOD:PUBLISH
X-ORIGINAL-URL:https://irelandqci.ie
X-WR-CALDESC:Events for 
REFRESH-INTERVAL;VALUE=DURATION:PT1H
X-Robots-Tag:noindex
X-PUBLISHED-TTL:PT1H
BEGIN:VTIMEZONE
TZID:UTC
BEGIN:STANDARD
TZOFFSETFROM:+0000
TZOFFSETTO:+0000
TZNAME:UTC
DTSTART:20230101T000000
END:STANDARD
END:VTIMEZONE
BEGIN:VEVENT
DTSTART;TZID=UTC:20240701T080000
DTEND;TZID=UTC:20240703T170000
DTSTAMP:20260420T070951
CREATED:20240701T081918Z
LAST-MODIFIED:20240725T114108Z
UID:4630-1719820800-1720026000@irelandqci.ie
SUMMARY:QCI Ireland Event - 1st-3rd July 2024
DESCRIPTION:About this event\nJoin us in Dublin for an exclusive Quantum Communication event this July!\nThis invite-only event is an exclusive opportunity to hear from experts across the quantum communication community\, representing industry and academia\, during a 3 day conference in Dublin\, taking place 1st-3rd July 2024.\nRepresentatives from ‘EuroQCI Industrial and Deploy National’ projects are invited to attend a closed PETRUS meeting at the venue on Monday 1st July\, and stay on in Dublin to join local Irish stakeholders from the quantum industry for a 2 day conference with key stakeholder workshops\, training and continued networking.\n1st July Day 1: PETRUS Workshops (closed meeting)\n2nd July Day 2: Key Stakeholder Meetings\n3rd July Day 3: IrelandQCI Workshops\nAbout IrelandQCI:\nIrelandQCI\, the ‘Building a National Quantum Communication Infrastructure for Ireland’ project incorporates integrating innovative and secure quantum devices and systems into conventional communication infrastructures. This will be done by enhancing the ESB Telecoms’ optical fibre network with an additional layer of security\, all based on quantum physics\, in particular quantum key distribution (QKD).\nTechnology specialists in six universities across Ireland\, are partnering with ESB Telecoms and HEAnet\, and pooling their expertise and resources to add an extra security layer to Ireland’s communications infrastructure and the data it transmits.\nIrelandQCI is one of several projects across the EU which sees the European Commission working with 27 Member States\, as well as the European Space Agency\, towards the deployment of a secure quantum communication infrastructure spanning the EU. The project is co-funded by the European Commission and the Irish government’s Department of the Environment\, Climate and Communications.\nOnly PETRUS representatives from EuroQCI Industrial and Deploy National projects should register for Day 1. Places are limited\, registration is essential.
URL:https://irelandqci.ie/event/qci-ireland-event-1st-3rd-july-2024/
ATTACH;FMTTYPE=image/png:https://irelandqci.ie/wp-content/uploads/2024/07/Event-Brite-banner-PETRUS.png
END:VEVENT
END:VCALENDAR